BEGIN:VCALENDAR
VERSION:2.0
PRODID:-//wp-events-plugin.com//7.2.3.1//EN
TZID:Europe/London
X-WR-TIMEZONE:Europe/London
BEGIN:VEVENT
UID:464@lewesconclub.com
DTSTART;TZID=Europe/London:20241026T190000
DTEND;TZID=Europe/London:20241026T230000
DTSTAMP:20241019T103832Z
URL:https://www.lewesconclub.com/events/tina-the-queen-of-rhythm/
SUMMARY:Cancelled - To be rescheduled                           Tina\, The 
 Queen of Rhythm
DESCRIPTION:\n\nJoin us for a night celebrating Tina Turner\, The Queen of 
 Rock n Roll\, with live music\, dancing\, and a whole lot of fun.\n&nbsp\;
 \n\n\n\nTickets: www.eventbrite.co.uk/e/tina-the-queen-of-rhythm-tickets-1
 021427355717\n\nBar from 5:00pm. Doors 7:00pm to 11:00pm.\n\n\n\n\n\n\n"Ti
 na\, The Queen of Rhythm" the band that brings you a showcase of Tina Turn
 er's incredible vocal journey from the early 1960s to the greatest hits of
  her solo career.\n\nFollowing our recent sell out debut Brighton Fringe S
 how\, which earned us 1st Runner Up in the Audience Choice Awards\, we are
  proud to announce our next date at Lewes Con Club!\n\nExpect to hear ever
 ything from the Ike and Tina Turner Revue years: ‘Funkier Than a Mosquit
 os Tweeter’\; ‘A Love Like Yours’\; ‘I Smell Trouble’\; ‘River
  Deep\, Mountain High’\; to classic Tina anthems like ‘What’s Love G
 ot to Do With It’\, ‘What You Get is What You See’\, ‘We Don’t N
 eed Another Hero’ and ‘GoldenEye’.\n\nThe show is fronted by Ruby Ro
 se\, Sussex-based soul Diva extraordinaire\, who boasts a stellar career s
 panning many years and this is her labour of love.\n\nRuby is backed by a 
 band of the crème de la crème of seasoned musicians they will give you t
 he ultimate appreciation of the Queen of Rhythm. The show fulfills a promi
 se that truly celebrates a legend and will get your audience dusting off t
 heir vocal chords and dancing in the aisles.\n\n"If you love soul music an
 d you love Tina Turner\, then you will love this show!”\n\ntinaturnerthe
 tribute.co.uk\n\n[embedyt] https://www.youtube.com/watch?v=VDVNA4ymuFE[/em
 bedyt]\n\nA couple of 5 Star Reviews from Brighton Fringe:\n\n\n\n“Amazi
 ng. What a fabulous evening . Ruby was so good\, a fabulous tribute to Tin
 a - such energy and fun. And the band and singers were great too” Audien
 ce Member\n\n5 Stars\n\n\n“A superb show ! The band were incredible and 
 Tina was tremendous. The vibe in the room was so good and everyone was hav
 ing a great time. I would definitely go to this gig again!!” Audience Me
 mber\n\n5 Stars\n\n\n\n\n\n\n\n
ATTACH;FMTTYPE=image/jpeg:https://www.lewesconclub.com/wp-content/uploads/
 2024/09/Tina2024.jpg
END:VEVENT
BEGIN:VTIMEZONE
TZID:Europe/London
X-LIC-LOCATION:Europe/London
BEGIN:DAYLIGHT
DTSTART:20240331T020000
TZOFFSETFROM:+0000
TZOFFSETTO:+0100
TZNAME:BST
END:DAYLIGHT
END:VTIMEZONE
END:VCALENDAR