BEGIN:VCALENDAR
VERSION:2.0
PRODID:-//wp-events-plugin.com//7.2.3.1//EN
TZID:Europe/London
X-WR-TIMEZONE:Europe/London
BEGIN:VEVENT
UID:267@lewesconclub.com
DTSTART;TZID=Europe/London:20240210T190000
DTEND;TZID=Europe/London:20240210T230000
DTSTAMP:20240109T135635Z
URL:https://www.lewesconclub.com/events/transmission-the-sound-of-joy-divi
 sion-2/
SUMMARY:Transmission - The Sound Of Joy Division
DESCRIPTION:Black Rabbit Productions Presents: Transmission - The Sound Of 
 Joy Division + The Pink Diamond Revue\n\nBar from 5:00pm. Doors 7pm - 11pm
 . Standing\n\nTickets - www.seetickets.com\n\nDevoted to recreating the at
 mosphere of a live Joy Division gig\, Transmission emulate the sound of on
 e of the most inventive\, evocative and influential groups of their era. J
 oy Division were formed in the late 1970s and dissolved in May 1980 after 
 the suicide of lead singer Ian Curtis. The remaining members went on to fo
 rm New Order and have achieved much critical and commercial success. The i
 nfluence of Joy Division\, however\, was far reaching. They were considere
 d the pioneering band of the post-punk movement of the late 1970s and earl
 y 1980s. Forty years on you can still relive the dark cavernous sound of J
 oy Division through Transmission the U.K's number one Joy Division tribute
  act.\n\n[embedyt] https://www.youtube.com/watch?v=2-kywcyW96c[/embedyt]
ATTACH;FMTTYPE=image/jpeg:https://www.lewesconclub.com/wp-content/uploads/
 2023/03/Transmission2024B.jpg
END:VEVENT
BEGIN:VTIMEZONE
TZID:Europe/London
X-LIC-LOCATION:Europe/London
BEGIN:STANDARD
DTSTART:20231029T010000
TZOFFSETFROM:+0100
TZOFFSETTO:+0000
TZNAME:GMT
END:STANDARD
END:VTIMEZONE
END:VCALENDAR