BEGIN:VCALENDAR
VERSION:2.0
PRODID:-//wp-events-plugin.com//7.2.3.1//EN
TZID:Europe/London
X-WR-TIMEZONE:Europe/London
BEGIN:VEVENT
UID:320@lewesconclub.com
DTSTART;TZID=Europe/London:20230825T190000
DTEND;TZID=Europe/London:20230825T230000
DTSTAMP:20230819T111425Z
URL:https://www.lewesconclub.com/events/ukraine-independence-day-event/
SUMMARY:Ukraine Independence Day Event
DESCRIPTION:Святкування Дня Незалежності Укра
 їни\n\nUkraine Independence Day Event\n\nFriday 25th  August 2023. Bar
  from 5:00pm. Starts at 7:00pm\n\nFree entry and all welcome.\n\nCome to a
  cultural evening of Ukrainian music and folk dancing. Enjoy this evening 
 of our Ukrainian friends hospitality. Ukrainian food will be provided.\n\n
 Approx schedule\, subject to change:\n\nDoors 7pm\n\n7:15pm Daria – Spee
 ch (and Гімн України)\n\n7:30pm Alla  - Poem / Sang\n\n7:45pm 
  - Anna + Halyna  2 Songs\n\n8:00pm KOLO (співають народн
 і)\n\n8:30pm “BAN DANCE” “CEILIOH”\n\n9:15pm  - Natalia / Vlada
   Ukrainian Folk Dance\n\n10:00pm Ukrainian Musik/Disco\n\n11:00pm End\n\
 nUkraine Independence Day event (Halyna version)
ATTACH;FMTTYPE=image/jpeg:https://www.lewesconclub.com/wp-content/uploads/
 2023/07/Aug2023.jpg
END:VEVENT
BEGIN:VTIMEZONE
TZID:Europe/London
X-LIC-LOCATION:Europe/London
BEGIN:DAYLIGHT
DTSTART:20230326T020000
TZOFFSETFROM:+0000
TZOFFSETTO:+0100
TZNAME:BST
END:DAYLIGHT
END:VTIMEZONE
END:VCALENDAR