BEGIN:VCALENDAR
VERSION:2.0
PRODID:-//wp-events-plugin.com//7.2.3.1//EN
TZID:Europe/London
X-WR-TIMEZONE:Europe/London
BEGIN:VEVENT
UID:294@lewesconclub.com
DTSTART;TZID=Europe/London:20240202T200000
DTEND;TZID=Europe/London:20240202T230000
DTSTAMP:20240202T142050Z
URL:https://www.lewesconclub.com/events/ye-vagabonds/
SUMMARY:Ye Vagabonds (Sold Out)
DESCRIPTION:\n\nRescheduled - all tickets are valid for this new date.\n\n\
 nMelting Vinyl presents: Ye Vagabonds + All The Brave Hunters\nBar from 5:
 00pm. Doors 8:00pm / Support on 8:30pm. Approx finish 10:45pm. STANDING\n
 £18.50 + booking fee / £22.50 on the door\nTickets SOLD OUT Join waitlis
 t: www.seetickets.com/event/ye-vagabonds-special-guests/lewes-con-club/268
 9712\n\nBrothers Brían and Diarmuid Mac Gloinn grew up playing music toge
 ther around their hometown of Carlow\, a small town in the southeast of Ir
 eland. After moving to Dublin in 2012\, they quickly became a staple of th
 e live music and session scene in Ireland\, playing their own original son
 gs as well as folk songs from Ireland\, Scotland\, England and America.\nT
 heir first album “Ye Vagabonds” comprised of harmony rich folk music\,
  influenced by Irish traditional music\, Appalachian singing\, and the 196
 0's folk revival. It included ten mellow tracks weaved with thoughtful lyr
 ics\, thickly layered with strings and droning harmonium.\nTheir second al
 bum ‘The Hare’s Lament’ grew to huge critical acclaim. They won the 
 BBC Radio Two Folk Award for Best Traditional Track\, and they swept the b
 oards at the RTÉ Radio One Folk Awards where they won Best Traditional Tr
 ack\, Best Group\, and Best Album. A long-awaited EP came out on January 2
 2nd 2020\, and once again they swept the boards at the RTÉ Radio One Folk
  Awards where they now hold the record for most awarded artists\, winning 
 Best Traditional Track and Best Group.\n"Ye Vagabonds prove once again to 
 be at the forefront of an ever-evolving\, flourishing Irish folk scene and
  have done so in the most understated and inspired fashion imaginable" - F
 olk Radio\nTheir new album is equally as impactful in this scene 'Nine Wav
 es' was released in May of this year on Rough Trade’s River Lea label.\n
 Join us for a night of rich harmony singing and talent\n\n\n\nAll The Brav
 e Hunters\n\nAll The Brave Hunters is the artist’s name of songwriter an
 d multi-instrumentalist Alain McFadden. A current member of Award-winning 
 folk group Ye Vagabonds\, this EP ‘Painted Glass’ will be his debut so
 lo release.\n\n[embedyt] https://www.youtube.com/watch?v=MTcCsIsaF7c[/embe
 dyt]\n\n
ATTACH;FMTTYPE=image/jpeg:https://www.lewesconclub.com/wp-content/uploads/
 2023/06/YeVagabonds2023.jpg
END:VEVENT
BEGIN:VTIMEZONE
TZID:Europe/London
X-LIC-LOCATION:Europe/London
BEGIN:STANDARD
DTSTART:20231029T010000
TZOFFSETFROM:+0100
TZOFFSETTO:+0000
TZNAME:GMT
END:STANDARD
END:VTIMEZONE
END:VCALENDAR